BEGIN:VCALENDAR
VERSION:2.0
PRODID:-//Kingston Wheelers - ECPv6.15.20//NONSGML v1.0//EN
CALSCALE:GREGORIAN
METHOD:PUBLISH
X-WR-CALNAME:Kingston Wheelers
X-ORIGINAL-URL:https://www.kingstonwheelers.com
X-WR-CALDESC:Events for Kingston Wheelers
REFRESH-INTERVAL;VALUE=DURATION:PT1H
X-Robots-Tag:noindex
X-PUBLISHED-TTL:PT1H
BEGIN:VTIMEZONE
TZID:UTC
BEGIN:STANDARD
TZOFFSETFROM:+0000
TZOFFSETTO:+0000
TZNAME:UTC
DTSTART:20220101T000000
END:STANDARD
END:VTIMEZONE
BEGIN:VEVENT
DTSTART;TZID=UTC:20250309T073000
DTEND;TZID=UTC:20250309T160000
DTSTAMP:20260421T133935
CREATED:20250205T161731Z
LAST-MODIFIED:20250308T110248Z
UID:22337-1741505400-1741536000@www.kingstonwheelers.com
SUMMARY:Surrey League Dunsfold Road Races 2025
DESCRIPTION:The Surrey League season openers traditional take place on the first weekend in March on the Dunsfold circuit. We return with a Women’s Cat 2/3 race in the morning followed by a Men’s Cat 2/3 in the afternoon. It’s a big club effort to host these races\, with many volunteers needed to run the event.  \nWomen’s Race at 09.30 \nMen’s Race at 13.30 \nKingston Wheelers members are invited to help out at the event. Available volunteering positions will be shown below\, once you’ve logged in. \nPlease note – we appreciate volunteers may not be available all day\, which is why some roles are split into the morning and afternoon races. If you can do both\, please put your name down for both the morning and afternoon slots. \nThank you!
URL:https://www.kingstonwheelers.com/event/surrey-league-dunsfold-road-races-2025/
LOCATION:Chiddingfold Village Hall\, Village Hall\, Coxcombe Ln\, Chiddingfold\, GU8 4QA\, United Kingdom
CATEGORIES:Road Race
ATTACH;FMTTYPE=image/jpeg:https://www.kingstonwheelers.com/wp-content/uploads/2020/01/Surrey-League-KWCC-Races-event.jpg
END:VEVENT
BEGIN:VEVENT
DTSTART;TZID=UTC:20240908T093000
DTEND;TZID=UTC:20240908T113000
DTSTAMP:20260421T133935
CREATED:20230724T074201Z
LAST-MODIFIED:20240214T133752Z
UID:18159-1725787800-1725795000@www.kingstonwheelers.com
SUMMARY:Maria Thompson Memorial Road Race
DESCRIPTION:Kingston Wheelers are proud to present the Maria Thompson Memorial Road Race for 2/3/4 Women and Junior Women. New date for the event is 3rd September 2023. Points will be awarded separately in the Adult and Junior categories. This race will be held on the Norwood Hill Circuit. The HQ will be Leigh Village Hall\, Bunce Common Rd\, Leigh\, Reigate RH2 8NP. \nMaria Thompson joined Kingston Wheelers in 2010 and rapidly became everyone’s favourite companion on Club Runs\, with her sense of humour and inciteful banter. She also became a well respected racer\, culminating in placing at the National Vets champs. She died from an aneurysm whilst riding her bike home from work in Richmond Park in 2017 She is sorely missed by all who met her.
URL:https://www.kingstonwheelers.com/event/maria-thompson-memorial-road-race/
LOCATION:Leigh Village Hall\, Bunce Common Rd\, Reigate\, RH2 8NP\, United Kingdom
CATEGORIES:Road Race
ATTACH;FMTTYPE=image/jpeg:https://www.kingstonwheelers.com/wp-content/uploads/2023/07/KW_MT-Race_1920x1000_2.jpg
END:VEVENT
BEGIN:VEVENT
DTSTART;TZID=UTC:20240310T090000
DTEND;TZID=UTC:20240310T160000
DTSTAMP:20260421T133935
CREATED:20200303T115950Z
LAST-MODIFIED:20240214T133502Z
UID:9505-1710061200-1710086400@www.kingstonwheelers.com
SUMMARY:Surrey League Dunsfold Road Races
DESCRIPTION:The Surrey League season openers traditional take place on the first weekend in March on the Dunsfold circuit. We return with a Women’s Cat 2/3 race in the morning followed by a Men’s Cat 2/3 in the afternoon. It’s a big club effort to host these races\, with many volunteers needed to run the event. Please see the volunteering section of the forum to help out.
URL:https://www.kingstonwheelers.com/event/surrey-league-dunsfold-road-races/
LOCATION:Winn Hall\, Dunsfold Common Rd\, Dunsfold\, Godalming\, GU8 4AJ
CATEGORIES:Road Race
ATTACH;FMTTYPE=image/jpeg:https://www.kingstonwheelers.com/wp-content/uploads/2020/01/Surrey-League-KWCC-Races-event.jpg
END:VEVENT
BEGIN:VEVENT
DTSTART;TZID=UTC:20231001T130000
DTEND;TZID=UTC:20231001T170000
DTSTAMP:20260421T133935
CREATED:20230724T075817Z
LAST-MODIFIED:20230724T075817Z
UID:18173-1696165200-1696179600@www.kingstonwheelers.com
SUMMARY:Club Championships
DESCRIPTION:The Club Championships is our annual set of races that give members the chance to battle it out to be crowned Club Champion. Taking place at the Hillingdon Cycle Circuit\, there is a dedicated men’s and women’s race\, as well as a Go Race for those want to try out racing. Look out for more details on the forum.
URL:https://www.kingstonwheelers.com/event/club-championships/
LOCATION:Hillingdon Cycle Circuit\, 11-12 Springfield Rd\, Hayes\, UB4 0LP\, United Kingdom
CATEGORIES:Road Race
ATTACH;FMTTYPE=image/jpeg:https://www.kingstonwheelers.com/wp-content/uploads/2023/07/KWCC_Club_Champs_22.jpg
END:VEVENT
END:VCALENDAR